BEGIN:VCALENDAR
VERSION:2.0
PRODID:-//Jefferson Tibetan Society - ECPv6.10.1.1//NONSGML v1.0//EN
CALSCALE:GREGORIAN
METHOD:PUBLISH
X-WR-CALNAME:Jefferson Tibetan Society
X-ORIGINAL-URL:https://jts.avenue.org
X-WR-CALDESC:Events for Jefferson Tibetan Society
REFRESH-INTERVAL;VALUE=DURATION:PT1H
X-Robots-Tag:noindex
X-PUBLISHED-TTL:PT1H
BEGIN:VTIMEZONE
TZID:America/New_York
BEGIN:DAYLIGHT
TZOFFSETFROM:-0500
TZOFFSETTO:-0400
TZNAME:EDT
DTSTART:20230312T070000
END:DAYLIGHT
BEGIN:STANDARD
TZOFFSETFROM:-0400
TZOFFSETTO:-0500
TZNAME:EST
DTSTART:20231105T060000
END:STANDARD
END:VTIMEZONE
BEGIN:VEVENT
DTSTART;TZID=America/New_York:20231112T150000
DTEND;TZID=America/New_York:20231112T163000
DTSTAMP:20260420T000941
CREATED:20230904T212743Z
LAST-MODIFIED:20230920T010006Z
UID:720-1699801200-1699806600@jts.avenue.org
SUMMARY:A Sacred and Sound Approach to Happiness\, Session 4: ENLIGHTENED HEALING
DESCRIPTION:On Sunday\, November 12 from 3 – 4:30 pm at the Center at Belvedere\, join Lama Tashi\, Grammy Award-nominated multiphonic chant master and Geshe (PhD equivalent) of H.H. the Dalai Lama’s Drepung Loseling Monastery\, for the second session in his “A Sacred and Sound Approach to Happiness” series. \nThis session focuses on Enlightened Healing through attunement with Medicine Buddha\, invoking his visualization\, affirmations\, meditations\, and mantra. The Medicine Buddha is a powerful ally who can assist us with overcoming stress\, tension and frustration. We will work with specific visualizations to achieve calmness\, mindfulness\, and contentment in order to experience Enlightened Healing for ourselves and for others. \nYou may register for this session separately\, or for the entire 5-session “A Sacred and Sound Approach to Happiness” series that Lama Tashi will offer on October 1\, 15\, and 29; November 12; and December 3\, 2023. A 20% discount is available to those who register for the entire series. Click here to learn more and register for the series. \nWe are offering an affordable\, three-tiered\, registration structure to make this series as available as possible. No one will be turned away for lack of funds. Please contact us for details. \nAdvance registration is strongly encouraged; walk-ins are welcome. Please email us with any questions. We look forward to seeing you! \nRegistration Options\nSend an e-mail to JTS108Va@gmail.com indicating what level you are registering for the series.  Please indicate the names of each person you are registering for.  Payment can then be made by: \n\nSending a check to Jefferson Tibetan Society\, P.O. Box 874\, Charlottesville\, Va. 22902 or\nBy PayPal — you can send your registration fee through PayPal by using our e-mail address:  JTS108Va@gmail.com\, the PayPal QR code below\, or the PayPal donate button.\n\nIf you prefer to pay by credit card\, register with the “Tickets” option below using Stripe as the payment method. \n  \n>
URL:https://jts.avenue.org/event/a-sacred-and-sound-approach-to-happiness-session-4-enlightened-healing/
LOCATION:The Center at Belvedere\, 540 Belvedere Boulevard\, Charlottesville\, VA\, 22901\, United States
CATEGORIES:A Sacred and Sound Approach to Happiness
ATTACH;FMTTYPE=image/jpeg:https://jts.avenue.org/wp-content/uploads/2023/09/Medicine-Buddha-Lama-Tashi.jpg
ORGANIZER;CN="Jefferson Tibetan Society":MAILTO:JTS108Va@gmail.com
END:VEVENT
END:VCALENDAR