BEGIN:VCALENDAR
VERSION:2.0
PRODID:-//Jefferson Tibetan Society - ECPv6.10.1.1//NONSGML v1.0//EN
CALSCALE:GREGORIAN
METHOD:PUBLISH
X-WR-CALNAME:Jefferson Tibetan Society
X-ORIGINAL-URL:https://jts.avenue.org
X-WR-CALDESC:Events for Jefferson Tibetan Society
REFRESH-INTERVAL;VALUE=DURATION:PT1H
X-Robots-Tag:noindex
X-PUBLISHED-TTL:PT1H
BEGIN:VTIMEZONE
TZID:America/New_York
BEGIN:DAYLIGHT
TZOFFSETFROM:-0500
TZOFFSETTO:-0400
TZNAME:EDT
DTSTART:20240310T070000
END:DAYLIGHT
BEGIN:STANDARD
TZOFFSETFROM:-0400
TZOFFSETTO:-0500
TZNAME:EST
DTSTART:20241103T060000
END:STANDARD
END:VTIMEZONE
BEGIN:VEVENT
DTSTART;TZID=America/New_York:20241005T130000
DTEND;TZID=America/New_York:20241005T150000
DTSTAMP:20260423T090511
CREATED:20240921T191624Z
LAST-MODIFIED:20240922T015022Z
UID:1438-1728133200-1728140400@jts.avenue.org
SUMMARY:From Confusion to Clarity: Buddhist Wisdom for Our World Today- Registration Open Now
DESCRIPTION:Lama Tashi returns to Charlottesville for the Fall 2024 Season! During this first teaching\, Lama Tashi will guide us through Manjushri’s practice on cultivating discerning wisdom to find clarity amidst confusion in today’s world. This session will include meditation and mantra practice\, and teachings on the Buddhist insight of the Two Truths. It will also serve as a time of introduction and re-connection to Lama Tashi and his teaching series for this visit to Charlottesville.
URL:https://jts.avenue.org/event/from-confusion-to-clarity-buddhist-wisdom-for-our-world-today/
LOCATION:The Sanctuary at Unity of Charlottesville\, 2825 Hydraulic Circle\, Charlottesville\, VA\, 22901\, United States
CATEGORIES:Lama Tashi
ATTACH;FMTTYPE=image/jpeg:https://jts.avenue.org/wp-content/uploads/2023/09/Manjushri-Lama-Tashi.jpg
ORGANIZER;CN="Jefferson Tibetan Society":MAILTO:JTS108Va@gmail.com
END:VEVENT
BEGIN:VEVENT
DTSTART;TZID=America/New_York:20241019T130000
DTEND;TZID=America/New_York:20241019T150000
DTSTAMP:20260423T090511
CREATED:20240922T014729Z
LAST-MODIFIED:20241004T001502Z
UID:1459-1729342800-1729350000@jts.avenue.org
SUMMARY:Heart Sutra Practice and Teachings with Lama Tashi
DESCRIPTION:Lama Tashi will share his multiphonic chanting and guide a group recitation of the Heart Sutra\, the best-known practice text of Mahayana Buddhism\, and provide teachings on this practice.  As part of the larger ancient Prajnaparamita (perfection of wisdom) Sutras\, the Heart Sutra’s deep and profound meaning is practiced and studied in order to embody the brilliance of wisdom and compassion\, which is beyond all words. \nCopies of the Sutra will be provided for those who wish to join in the recitation.
URL:https://jts.avenue.org/event/heart-sutra-teachings-and-practice-with-lama-tashi/
LOCATION:Fillmore House at Unity of Charlottesville\, 2825 Hydraulic Circle\, Charlottesville\, VA\, 22901\, United States
CATEGORIES:Lama Tashi
ATTACH;FMTTYPE=image/webp:https://jts.avenue.org/wp-content/uploads/2023/03/Lama-Tashi-picture.webp
ORGANIZER;CN="Jefferson Tibetan Society":MAILTO:JTS108Va@gmail.com
END:VEVENT
END:VCALENDAR