BEGIN:VCALENDAR
VERSION:2.0
PRODID:-//Jefferson Tibetan Society - ECPv6.10.1.1//NONSGML v1.0//EN
CALSCALE:GREGORIAN
METHOD:PUBLISH
X-ORIGINAL-URL:https://jts.avenue.org
X-WR-CALDESC:Events for Jefferson Tibetan Society
REFRESH-INTERVAL;VALUE=DURATION:PT1H
X-Robots-Tag:noindex
X-PUBLISHED-TTL:PT1H
BEGIN:VTIMEZONE
TZID:America/New_York
BEGIN:DAYLIGHT
TZOFFSETFROM:-0500
TZOFFSETTO:-0400
TZNAME:EDT
DTSTART:20240310T070000
END:DAYLIGHT
BEGIN:STANDARD
TZOFFSETFROM:-0400
TZOFFSETTO:-0500
TZNAME:EST
DTSTART:20241103T060000
END:STANDARD
END:VTIMEZONE
BEGIN:VEVENT
DTSTART;TZID=America/New_York:20241102T130000
DTEND;TZID=America/New_York:20241102T170000
DTSTAMP:20260423T011607
CREATED:20241010T202003Z
LAST-MODIFIED:20241016T185425Z
UID:1506-1730552400-1730566800@jts.avenue.org
SUMMARY:Protection and Transformative Power: An Afternoon Retreat with Lama Tashi
DESCRIPTION:Join us for an afternoon retreat as Lama Tashi guides us in the powerful practices of Tara and Vajrapani. A beloved deity in the Tibetan Buddhist lineage\, Tara offers support in times of need and swift protection from fears. Vajrapani\, in complement\, represents our ability to cultivate inner strength and transform our challenging emotions into compassionate energy. Taken together\, the practices of these two deities offer tremendous potential through our journeys at this very moment. \nThis retreat will take place at the Bridge Between the Worlds retreat center from 1pm to 5pm on November 2nd. During this time\, Lama Tashi will share stories and guide us through meditations with visualization and mantra\, as we explore the practices of these two deities. Please see the details below for registration. \n 
URL:https://jts.avenue.org/event/bbw-half-day-retreat/
LOCATION:Bridge Between the Worlds\, 2395 Paddock Wood Rd\, Keswick\, VA\, 22947\, United States
CATEGORIES:Lama Tashi,Retreat
ATTACH;FMTTYPE=image/jpeg:https://jts.avenue.org/wp-content/uploads/2023/09/Lama-Tashi-higher-resolution-rectangular.jpg
ORGANIZER;CN="Jefferson Tibetan Society":MAILTO:JTS108Va@gmail.com
END:VEVENT
END:VCALENDAR