BEGIN:VCALENDAR
VERSION:2.0
PRODID:-//Jefferson Tibetan Society - ECPv6.10.1.1//NONSGML v1.0//EN
CALSCALE:GREGORIAN
METHOD:PUBLISH
X-WR-CALNAME:Jefferson Tibetan Society
X-ORIGINAL-URL:https://jts.avenue.org
X-WR-CALDESC:Events for Jefferson Tibetan Society
REFRESH-INTERVAL;VALUE=DURATION:PT1H
X-Robots-Tag:noindex
X-PUBLISHED-TTL:PT1H
BEGIN:VTIMEZONE
TZID:America/New_York
BEGIN:DAYLIGHT
TZOFFSETFROM:-0500
TZOFFSETTO:-0400
TZNAME:EDT
DTSTART:20240310T070000
END:DAYLIGHT
BEGIN:STANDARD
TZOFFSETFROM:-0400
TZOFFSETTO:-0500
TZNAME:EST
DTSTART:20241103T060000
END:STANDARD
END:VTIMEZONE
BEGIN:VEVENT
DTSTART;TZID=America/New_York:20241116T130000
DTEND;TZID=America/New_York:20241116T150000
DTSTAMP:20260423T011446
CREATED:20241112T185520Z
LAST-MODIFIED:20241112T185622Z
UID:1600-1731762000-1731769200@jts.avenue.org
SUMMARY:Protection and Spiritual Embodiment Practice & Discussion with Lama Tashi and Sangha 
DESCRIPTION:Saturday\, November 16th \n\n1:00 p.m. – 3:00 p.m. at Unity of Charlottesville\, Fillmore House \n\nIt was good to be with so many of you Nov. 2nd for practice.  As many found it to be quite helpful\, we will continue these meditation & mantra practices this Saturday and provide more space for question & answers with Lama Tashi. This is a unique and fortunate opportunity to deepen your connection with Lama Tashi. We hope you can join us!\n\n\n\n\n\nFor anyone who was not able to attend Nov. 2nd\, you are still most welcome and Lama Tashi will provide the transmissions for the Green Tara & Vajrapani mantra & meditation practices.\n\nA beloved presence in the Tibetan Buddhist lineage\, Tara offers support in times of need and swift protection from fears. Vajrapani\, in complement\, represents our ability to cultivate inner strength and to transform our challenging emotions into compassionate energy. Taken together\, the practices of these two archetypal energies offer tremendous assistance for our well-being in our world today.
URL:https://jts.avenue.org/event/protection-and-spiritual-embodiment/
LOCATION:Fillmore House at Unity of Charlottesville\, 2825 Hydraulic Circle\, Charlottesville\, VA\, 22901\, United States
CATEGORIES:Lama Tashi
ATTACH;FMTTYPE=image/jpeg:https://jts.avenue.org/wp-content/uploads/2023/09/Tara-Lama-Tashi.jpg
ORGANIZER;CN="Jefferson Tibetan Society":MAILTO:JTS108Va@gmail.com
END:VEVENT
END:VCALENDAR